Workbook

Sheet Start Here
A1: Job Application Tracker (Free)
A3: Yellow cells are inputs. Every other cell is calculated.
A4: Works in Excel, Google Sheets (File > Import) and LibreOffice. No macros.
A5: Log every application. A follow-up date 7 days after your last contact is filled in for you.
A6: Upgrade: Tracker + Offer Comparison ($9) or Job Search Command Center PRO ($19).

Sheet Applications
A1: Company | B1: Role | C1: Link | D1: Source | E1: Date applied | F1: Status | G1: Last contact | H1: Follow-up on | I1: Days since contact | J1: Salary range
A2: Globex | B2: Data Analyst | C2: https://example.com/1 | D2: LinkedIn | E2: 46266 | F2: Interview | G2: 46274 | H2: =IF(OR(E2="",OR(F2="Offer",F2="Rejected",F2="Withdrawn")),"",MAX(E2,G2)+7) | I2: =IF(E2="","",TODAY()-MAX(E2,G2))
A3: Initech | B3: BI Analyst | C3: https://example.com/2 | D3: Referral | E3: 46268 | F3: Applied | H3: =IF(OR(E3="",OR(F3="Offer",F3="Rejected",F3="Withdrawn")),"",MAX(E3,G3)+7) | I3: =IF(E3="","",TODAY()-MAX(E3,G3))
A4: Umbrella | B4: Analyst II | C4: https://example.com/3 | D4: Company site | E4: 46269 | F4: Rejected | G4: 46278 | H4: =IF(OR(E4="",OR(F4="Offer",F4="Rejected",F4="Withdrawn")),"",MAX(E4,G4)+7) | I4: =IF(E4="","",TODAY()-MAX(E4,G4))
A5: Hooli | B5: Data Analyst | C5: https://example.com/4 | D5: Indeed | E5: 46271 | F5: Offer | G5: 46286 | H5: =IF(OR(E5="",OR(F5="Offer",F5="Rejected",F5="Withdrawn")),"",MAX(E5,G5)+7) | I5: =IF(E5="","",TODAY()-MAX(E5,G5))
H6: =IF(OR(E6="",OR(F6="Offer",F6="Rejected",F6="Withdrawn")),"",MAX(E6,G6)+7) | I6: =IF(E6="","",TODAY()-MAX(E6,G6))
H7: =IF(OR(E7="",OR(F7="Offer",F7="Rejected",F7="Withdrawn")),"",MAX(E7,G7)+7) | I7: =IF(E7="","",TODAY()-MAX(E7,G7))
H8: =IF(OR(E8="",OR(F8="Offer",F8="Rejected",F8="Withdrawn")),"",MAX(E8,G8)+7) | I8: =IF(E8="","",TODAY()-MAX(E8,G8))
H9: =IF(OR(E9="",OR(F9="Offer",F9="Rejected",F9="Withdrawn")),"",MAX(E9,G9)+7) | I9: =IF(E9="","",TODAY()-MAX(E9,G9))
H10: =IF(OR(E10="",OR(F10="Offer",F10="Rejected",F10="Withdrawn")),"",MAX(E10,G10)+7) | I10: =IF(E10="","",TODAY()-MAX(E10,G10))
H11: =IF(OR(E11="",OR(F11="Offer",F11="Rejected",F11="Withdrawn")),"",MAX(E11,G11)+7) | I11: =IF(E11="","",TODAY()-MAX(E11,G11))
H12: =IF(OR(E12="",OR(F12="Offer",F12="Rejected",F12="Withdrawn")),"",MAX(E12,G12)+7) | I12: =IF(E12="","",TODAY()-MAX(E12,G12))
H13: =IF(OR(E13="",OR(F13="Offer",F13="Rejected",F13="Withdrawn")),"",MAX(E13,G13)+7) | I13: =IF(E13="","",TODAY()-MAX(E13,G13))
H14: =IF(OR(E14="",OR(F14="Offer",F14="Rejected",F14="Withdrawn")),"",MAX(E14,G14)+7) | I14: =IF(E14="","",TODAY()-MAX(E14,G14))
H15: =IF(OR(E15="",OR(F15="Offer",F15="Rejected",F15="Withdrawn")),"",MAX(E15,G15)+7) | I15: =IF(E15="","",TODAY()-MAX(E15,G15))
H16: =IF(OR(E16="",OR(F16="Offer",F16="Rejected",F16="Withdrawn")),"",MAX(E16,G16)+7) | I16: =IF(E16="","",TODAY()-MAX(E16,G16))
H17: =IF(OR(E17="",OR(F17="Offer",F17="Rejected",F17="Withdrawn")),"",MAX(E17,G17)+7) | I17: =IF(E17="","",TODAY()-MAX(E17,G17))
... H101: =IF(OR(E101="",OR(F101="Offer",F101="Rejected",F101="Withdrawn")),"",MAX(E101,G101)+7) | I101: =IF(E101="","",TODAY()-MAX(E101,G101))

Sheet Summary
A1: Status | B1: Count | C1: % of applications
A2: Wishlist | B2: =COUNTIF(Applications!F2:F101,A2) | C2: =IFERROR(B2/$B$12,0)
A3: Applied | B3: =COUNTIF(Applications!F2:F101,A3) | C3: =IFERROR(B3/$B$12,0)
A4: Phone screen | B4: =COUNTIF(Applications!F2:F101,A4) | C4: =IFERROR(B4/$B$12,0)
A5: Interview | B5: =COUNTIF(Applications!F2:F101,A5) | C5: =IFERROR(B5/$B$12,0)
A6: Final round | B6: =COUNTIF(Applications!F2:F101,A6) | C6: =IFERROR(B6/$B$12,0)
A7: Offer | B7: =COUNTIF(Applications!F2:F101,A7) | C7: =IFERROR(B7/$B$12,0)
A8: Rejected | B8: =COUNTIF(Applications!F2:F101,A8) | C8: =IFERROR(B8/$B$12,0)
A9: Ghosted | B9: =COUNTIF(Applications!F2:F101,A9) | C9: =IFERROR(B9/$B$12,0)
A10: Withdrawn | B10: =COUNTIF(Applications!F2:F101,A10) | C10: =IFERROR(B10/$B$12,0)
A12: Total applications (excl. wishlist) | B12: =COUNTA(Applications!A2:A101)-B2
A13: Response rate (got past Applied) | B13: =IFERROR((B4+B5+B6+B7+B8)/B12,0)
A14: Follow-ups due today or overdue | B14: =COUNTIFS(Applications!H2:H101,"<="&TODAY(),Applications!H2:H101,"<>")
